Package: RnaSeqSampleSize Version: 2.19.0 Command: F:\biocbuild\bbs-3.22-bioc\R\bin\R.exe CMD INSTALL RnaSeqSampleSize StartedAt: 2025-07-11 17:03:40 -0400 (Fri, 11 Jul 2025) EndedAt: 2025-07-11 17:05:25 -0400 (Fri, 11 Jul 2025) EllapsedTime: 104.7 seconds RetCode: 0 Status: OK