Package: RnaSeqSampleSize Version: 2.19.0 Command: rm -rf RnaSeqSampleSize.buildbin-libdir && mkdir RnaSeqSampleSize.buildbin-libdir && F:\biocbuild\bbs-3.22-bioc\R\bin\R.exe CMD INSTALL --build --library=RnaSeqSampleSize.buildbin-libdir RnaSeqSampleSize_2.19.0.tar.gz StartedAt: 2025-07-12 09:43:02 -0400 (Sat, 12 Jul 2025) EndedAt: 2025-07-12 09:44:28 -0400 (Sat, 12 Jul 2025) EllapsedTime: 86.4 seconds RetCode: 0 Status: OK PackageFile: RnaSeqSampleSize_2.19.0.zip PackageFileSize: 655.2 KiB