Package: RnaSeqSampleSize Version: 2.19.0 Command: /Library/Frameworks/R.framework/Resources/bin/R CMD build --keep-empty-dirs --no-resave-data RnaSeqSampleSize StartedAt: 2025-10-03 18:45:18 -0400 (Fri, 03 Oct 2025) EndedAt: 2025-10-03 18:45:24 -0400 (Fri, 03 Oct 2025) EllapsedTime: 5.7 seconds RetCode: 1 Status: ERROR PackageFile: None PackageFileSize: NA