Package: RnaSeqSampleSize Version: 2.19.0 Command: /Library/Frameworks/R.framework/Resources/bin/R CMD INSTALL RnaSeqSampleSize StartedAt: 2025-06-29 15:31:26 -0400 (Sun, 29 Jun 2025) EndedAt: 2025-06-29 15:31:27 -0400 (Sun, 29 Jun 2025) EllapsedTime: 1.0 seconds RetCode: 1 Status: ERROR