Package: RnaSeqSampleSize Version: 2.19.0 Command: /Library/Frameworks/R.framework/Resources/bin/R CMD build --keep-empty-dirs --no-resave-data RnaSeqSampleSize StartedAt: 2025-06-29 17:25:05 -0400 (Sun, 29 Jun 2025) EndedAt: 2025-06-29 17:25:07 -0400 (Sun, 29 Jun 2025) EllapsedTime: 2.0 seconds RetCode: 1 Status: ERROR PackageFile: None PackageFileSize: NA