############################################################################## ############################################################################## ### ### Running command: ### ### /Library/Frameworks/R.framework/Resources/bin/R CMD build --keep-empty-dirs --no-resave-data RnaSeqSampleSize ### ############################################################################## ############################################################################## * checking for file ‘RnaSeqSampleSize/DESCRIPTION’ ... OK * preparing ‘RnaSeqSampleSize’: * checking DESCRIPTION meta-information ... OK * cleaning src * installing the package to build vignettes ----------------------------------- * installing *source* package ‘RnaSeqSampleSize’ ... ** this is package ‘RnaSeqSampleSize’ version ‘2.19.0’ ** using staged installation ** libs using C compiler: ‘Apple clang version 15.0.0 (clang-1500.1.0.2.5)’ using C++ compiler: ‘Apple clang version 15.0.0 (clang-1500.1.0.2.5)’ using SDK: ‘MacOSX11.3.sdk’ clang++ -arch arm64 -std=gnu++17 -I"/Library/Frameworks/R.framework/Resources/include" -DNDEBUG -I'/Library/Frameworks/R.framework/Versions/4.5-arm64/Resources/library/Rcpp/include' -I/opt/R/arm64/include -fPIC -falign-functions=64 -Wall -g -O2 -c RcppExports.cpp -o RcppExports.o clang -arch arm64 -std=gnu2x -I"/Library/Frameworks/R.framework/Resources/include" -DNDEBUG -I'/Library/Frameworks/R.framework/Versions/4.5-arm64/Resources/library/Rcpp/include' -I/opt/R/arm64/include -fPIC -falign-functions=64 -Wall -g -O2 -c RnaSeqSampleSize.c -o RnaSeqSampleSize.o In file included from RnaSeqSampleSize.c:4: ./nmath.h:87:10: fatal error: 'libintl.h' file not found #include ^~~~~~~~~~~ 1 error generated. make: *** [RnaSeqSampleSize.o] Error 1 ERROR: compilation failed for package ‘RnaSeqSampleSize’ * removing ‘/private/var/folders/r0/l4fjk6cj5xj0j3brt4bplpl40000gt/T/Rtmp4GWEV0/Rinst141e85d4caaf7/RnaSeqSampleSize’ ----------------------------------- ERROR: package installation failed