Package: RnBeads Version: 2.27.1 Command: rm -rf RnBeads.buildbin-libdir && mkdir RnBeads.buildbin-libdir && F:\biocbuild\bbs-3.22-bioc\R\bin\R.exe CMD INSTALL --build --library=RnBeads.buildbin-libdir RnBeads_2.27.1.tar.gz StartedAt: 2025-07-21 09:55:07 -0400 (Mon, 21 Jul 2025) EndedAt: 2025-07-21 10:00:17 -0400 (Mon, 21 Jul 2025) EllapsedTime: 309.7 seconds RetCode: 0 Status: OK PackageFile: RnBeads_2.27.1.zip PackageFileSize: 7.418 MiB