Package: RnBeads Version: 2.27.1 Command: /Library/Frameworks/R.framework/Resources/bin/R CMD check --install=check:RnBeads.install-out.txt --library=/Library/Frameworks/R.framework/Resources/library --no-vignettes --timings RnBeads_2.27.1.tar.gz StartedAt: 2025-07-21 23:14:03 -0400 (Mon, 21 Jul 2025) EndedAt: 2025-07-21 23:33:05 -0400 (Mon, 21 Jul 2025) EllapsedTime: 1142.6 seconds RetCode: 0 Status: OK CheckDir: RnBeads.Rcheck Warnings: 0