Package: Rmmquant Version: 1.27.0 Command: F:\biocbuild\bbs-3.22-bioc\R\bin\R.exe CMD INSTALL Rmmquant StartedAt: 2025-07-22 16:25:34 -0400 (Tue, 22 Jul 2025) EndedAt: 2025-07-22 16:26:46 -0400 (Tue, 22 Jul 2025) EllapsedTime: 72.4 seconds RetCode: 0 Status: OK