Package: Rmmquant Version: 1.27.0 Command: F:\biocbuild\bbs-3.22-bioc\R\bin\R.exe CMD check --no-multiarch --install=check:Rmmquant.install-out.txt --library=F:\biocbuild\bbs-3.22-bioc\R\library --no-vignettes --timings Rmmquant_1.27.0.tar.gz StartedAt: 2025-07-23 06:00:49 -0400 (Wed, 23 Jul 2025) EndedAt: 2025-07-23 06:06:56 -0400 (Wed, 23 Jul 2025) EllapsedTime: 367.6 seconds RetCode: 0 Status: OK CheckDir: Rmmquant.Rcheck Warnings: 0