Package: Rmmquant Version: 1.27.0 Command: chmod a+r Rmmquant -R && F:\biocbuild\bbs-3.22-bioc\R\bin\R.exe CMD build --keep-empty-dirs --no-resave-data Rmmquant StartedAt: 2025-07-22 21:41:37 -0400 (Tue, 22 Jul 2025) EndedAt: 2025-07-22 21:43:27 -0400 (Tue, 22 Jul 2025) EllapsedTime: 110.1 seconds RetCode: 0 Status: OK PackageFile: Rmmquant_1.27.0.tar.gz PackageFileSize: 45.28 KiB