Package: Rmmquant Version: 1.27.0 Command: rm -rf Rmmquant.buildbin-libdir && mkdir Rmmquant.buildbin-libdir && F:\biocbuild\bbs-3.22-bioc\R\bin\R.exe CMD INSTALL --build --library=Rmmquant.buildbin-libdir Rmmquant_1.27.0.tar.gz StartedAt: 2025-07-23 09:59:26 -0400 (Wed, 23 Jul 2025) EndedAt: 2025-07-23 10:00:37 -0400 (Wed, 23 Jul 2025) EllapsedTime: 71.2 seconds RetCode: 0 Status: OK PackageFile: Rmmquant_1.27.0.zip PackageFileSize: 835.3 KiB