Package: Rmmquant Version: 1.27.0 Command: /Library/Frameworks/R.framework/Resources/bin/R CMD INSTALL Rmmquant StartedAt: 2025-07-01 15:45:55 -0400 (Tue, 01 Jul 2025) EndedAt: 2025-07-01 15:47:04 -0400 (Tue, 01 Jul 2025) EllapsedTime: 69.3 seconds RetCode: 0 Status: OK