Package: Rmmquant Version: 1.27.0 Command: /Library/Frameworks/R.framework/Resources/bin/R CMD check --install=check:Rmmquant.install-out.txt --library=/Library/Frameworks/R.framework/Resources/library --no-vignettes --timings Rmmquant_1.27.0.tar.gz StartedAt: 2025-07-01 23:11:22 -0400 (Tue, 01 Jul 2025) EndedAt: 2025-07-01 23:16:32 -0400 (Tue, 01 Jul 2025) EllapsedTime: 310.1 seconds RetCode: 0 Status: OK CheckDir: Rmmquant.Rcheck Warnings: 0