Package: Rmmquant Version: 1.27.0 Command: /Library/Frameworks/R.framework/Resources/bin/R CMD build --keep-empty-dirs --no-resave-data Rmmquant StartedAt: 2025-07-01 18:19:01 -0400 (Tue, 01 Jul 2025) EndedAt: 2025-07-01 18:20:26 -0400 (Tue, 01 Jul 2025) EllapsedTime: 84.8 seconds RetCode: 0 Status: OK PackageFile: Rmmquant_1.27.0.tar.gz PackageFileSize: 44.98 KiB