Package: Rmmquant Version: 1.27.0 Command: rm -rf Rmmquant.buildbin-libdir && mkdir Rmmquant.buildbin-libdir && /Users/biocbuild/BBS/utils/build-universal.sh Rmmquant_1.27.0.tar.gz /Library/Frameworks/R.framework/Resources/bin/R Rmmquant.buildbin-libdir StartedAt: 2025-07-02 01:16:00 -0400 (Wed, 02 Jul 2025) EndedAt: 2025-07-02 01:17:17 -0400 (Wed, 02 Jul 2025) EllapsedTime: 77.0 seconds RetCode: 0 Status: OK PackageFile: Rmmquant_1.27.0.tgz PackageFileSize: 457 KiB