Package: Rigraphlib Version: 1.1.2 Command: /Library/Frameworks/R.framework/Resources/bin/R CMD INSTALL Rigraphlib StartedAt: 2025-10-05 15:03:11 -0400 (Sun, 05 Oct 2025) EndedAt: 2025-10-05 15:04:20 -0400 (Sun, 05 Oct 2025) EllapsedTime: 68.9 seconds RetCode: 0 Status: OK