Package: RiboProfiling Version: 1.39.0 Command: /home/biocbuild/R/R/bin/R CMD build --keep-empty-dirs --no-resave-data RiboProfiling StartedAt: 2025-07-01 02:15:24 -0000 (Tue, 01 Jul 2025) EndedAt: 2025-07-01 02:19:18 -0000 (Tue, 01 Jul 2025) EllapsedTime: 234.2 seconds RetCode: 0 Status: OK PackageFile: RiboProfiling_1.39.0.tar.gz PackageFileSize: 4.489 MiB