Package: RiboProfiling Version: 1.39.0 Command: /Library/Frameworks/R.framework/Resources/bin/R CMD INSTALL RiboProfiling StartedAt: 2025-07-02 15:24:46 -0400 (Wed, 02 Jul 2025) EndedAt: 2025-07-02 15:25:06 -0400 (Wed, 02 Jul 2025) EllapsedTime: 20.0 seconds RetCode: 0 Status: OK