Package: RiboProfiling Version: 1.39.0 Command: /Library/Frameworks/R.framework/Resources/bin/R CMD check --install=check:RiboProfiling.install-out.txt --library=/Library/Frameworks/R.framework/Resources/library --no-vignettes --timings RiboProfiling_1.39.0.tar.gz StartedAt: 2025-07-04 21:01:17 -0400 (Fri, 04 Jul 2025) EndedAt: 2025-07-04 21:05:38 -0400 (Fri, 04 Jul 2025) EllapsedTime: 261.3 seconds RetCode: 0 Status: WARNINGS CheckDir: RiboProfiling.Rcheck Warnings: 1