Package: RiboProfiling Version: 1.39.0 Command: /Library/Frameworks/R.framework/Resources/bin/R CMD build --keep-empty-dirs --no-resave-data RiboProfiling StartedAt: 2025-07-02 17:21:59 -0400 (Wed, 02 Jul 2025) EndedAt: 2025-07-02 17:23:15 -0400 (Wed, 02 Jul 2025) EllapsedTime: 75.8 seconds RetCode: 0 Status: OK PackageFile: RiboProfiling_1.39.0.tar.gz PackageFileSize: 4.658 MiB