Package: RiboCrypt Version: 1.15.3 Command: /home/biocbuild/R/R/bin/R CMD build --keep-empty-dirs --no-resave-data RiboCrypt StartedAt: 2025-07-25 03:14:04 -0000 (Fri, 25 Jul 2025) EndedAt: 2025-07-25 03:15:58 -0000 (Fri, 25 Jul 2025) EllapsedTime: 114.1 seconds RetCode: 0 Status: OK PackageFile: RiboCrypt_1.15.3.tar.gz PackageFileSize: 12.84 MiB