Package: RiboCrypt Version: 1.15.1 Command: F:\biocbuild\bbs-3.22-bioc\R\bin\R.exe CMD INSTALL RiboCrypt StartedAt: 2025-07-11 17:05:19 -0400 (Fri, 11 Jul 2025) EndedAt: 2025-07-11 17:07:08 -0400 (Fri, 11 Jul 2025) EllapsedTime: 108.6 seconds RetCode: 0 Status: OK