Package: RiboCrypt Version: 1.15.1 Command: chmod a+r RiboCrypt -R && F:\biocbuild\bbs-3.22-bioc\R\bin\R.exe CMD build --keep-empty-dirs --no-resave-data RiboCrypt StartedAt: 2025-07-11 21:35:46 -0400 (Fri, 11 Jul 2025) EndedAt: 2025-07-11 21:38:35 -0400 (Fri, 11 Jul 2025) EllapsedTime: 169.2 seconds RetCode: 0 Status: OK PackageFile: RiboCrypt_1.15.1.tar.gz PackageFileSize: 12.24 MiB