Package: RiboCrypt Version: 1.15.1 Command: rm -rf RiboCrypt.buildbin-libdir && mkdir RiboCrypt.buildbin-libdir && F:\biocbuild\bbs-3.22-bioc\R\bin\R.exe CMD INSTALL --build --library=RiboCrypt.buildbin-libdir RiboCrypt_1.15.1.tar.gz StartedAt: 2025-07-12 09:41:01 -0400 (Sat, 12 Jul 2025) EndedAt: 2025-07-12 09:42:50 -0400 (Sat, 12 Jul 2025) EllapsedTime: 109.0 seconds RetCode: 0 Status: OK PackageFile: RiboCrypt_1.15.1.zip PackageFileSize: 12.63 MiB