Package: RiboCrypt Version: 1.15.1 Command: /Library/Frameworks/R.framework/Resources/bin/R CMD check --install=check:RiboCrypt.install-out.txt --library=/Library/Frameworks/R.framework/Resources/library --no-vignettes --timings RiboCrypt_1.15.1.tar.gz StartedAt: 2025-07-04 21:00:54 -0400 (Fri, 04 Jul 2025) EndedAt: 2025-07-04 21:03:04 -0400 (Fri, 04 Jul 2025) EllapsedTime: 129.7 seconds RetCode: 0 Status: WARNINGS CheckDir: RiboCrypt.Rcheck Warnings: 1