Package: Rhtslib Version: 3.5.0 Command: /home/biocbuild/R/R/bin/R CMD INSTALL Rhtslib StartedAt: 2025-07-07 20:05:48 -0000 (Mon, 07 Jul 2025) EndedAt: 2025-07-07 20:08:17 -0000 (Mon, 07 Jul 2025) EllapsedTime: 149.0 seconds RetCode: 0 Status: OK