Package: Rhtslib Version: 3.5.0 Command: /home/biocbuild/R/R/bin/R CMD build --keep-empty-dirs --no-resave-data Rhtslib StartedAt: 2025-07-08 01:58:00 -0000 (Tue, 08 Jul 2025) EndedAt: 2025-07-08 02:00:18 -0000 (Tue, 08 Jul 2025) EllapsedTime: 138.1 seconds RetCode: 0 Status: OK PackageFile: Rhtslib_3.5.0.tar.gz PackageFileSize: 4.935 MiB