Package: Rhtslib Version: 3.5.0 Command: set _R_INSTALL_TIME_PATCHES_=no&& F:\biocbuild\bbs-3.22-bioc\R\bin\R.exe CMD INSTALL Rhtslib StartedAt: 2025-07-06 15:22:33 -0400 (Sun, 06 Jul 2025) EndedAt: 2025-07-06 15:24:32 -0400 (Sun, 06 Jul 2025) EllapsedTime: 118.8 seconds RetCode: 0 Status: OK