Package: Rhtslib Version: 3.5.0 Command: set _R_INSTALL_TIME_PATCHES_=no&& F:\biocbuild\bbs-3.22-bioc\R\bin\R.exe CMD check --no-multiarch --install=check:Rhtslib.install-out.txt --library=F:\biocbuild\bbs-3.22-bioc\R\library --no-vignettes --timings Rhtslib_3.5.0.tar.gz StartedAt: 2025-07-08 05:45:41 -0400 (Tue, 08 Jul 2025) EndedAt: 2025-07-08 05:47:46 -0400 (Tue, 08 Jul 2025) EllapsedTime: 124.8 seconds RetCode: 0 Status: OK CheckDir: Rhtslib.Rcheck Warnings: 0