Package: Rhtslib Version: 3.5.0 Command: set _R_INSTALL_TIME_PATCHES_=no&& rm -rf Rhtslib.buildbin-libdir && mkdir Rhtslib.buildbin-libdir && F:\biocbuild\bbs-3.22-bioc\R\bin\R.exe CMD INSTALL --build --library=Rhtslib.buildbin-libdir Rhtslib_3.5.0.tar.gz StartedAt: 2025-07-07 09:36:25 -0400 (Mon, 07 Jul 2025) EndedAt: 2025-07-07 09:38:47 -0400 (Mon, 07 Jul 2025) EllapsedTime: 141.8 seconds RetCode: 0 Status: OK PackageFile: Rhtslib_3.5.0.zip PackageFileSize: 6.625 MiB