Package: Rhtslib Version: 3.5.0 Command: /home/biocbuild/bbs-3.22-bioc/R/bin/R CMD check --install=check:Rhtslib.install-out.txt --library=/home/biocbuild/bbs-3.22-bioc/R/site-library --timings Rhtslib_3.5.0.tar.gz StartedAt: 2025-07-03 01:57:35 -0400 (Thu, 03 Jul 2025) EndedAt: 2025-07-03 01:57:52 -0400 (Thu, 03 Jul 2025) EllapsedTime: 17.0 seconds RetCode: 0 Status: OK CheckDir: Rhtslib.Rcheck Warnings: 0