Package: Rhtslib Version: 3.5.0 Command: /home/biocbuild/bbs-3.22-bioc/R/bin/R CMD build --keep-empty-dirs --no-resave-data --md5 Rhtslib StartedAt: 2025-07-02 19:00:50 -0400 (Wed, 02 Jul 2025) EndedAt: 2025-07-02 19:02:20 -0400 (Wed, 02 Jul 2025) EllapsedTime: 90.1 seconds RetCode: 0 Status: OK PackageFile: Rhtslib_3.5.0.tar.gz PackageFileSize: 4.935 MiB