Package: Rhtslib Version: 3.5.0 Command: /Library/Frameworks/R.framework/Resources/bin/R CMD build --keep-empty-dirs --no-resave-data Rhtslib StartedAt: 2025-07-07 17:19:58 -0400 (Mon, 07 Jul 2025) EndedAt: 2025-07-07 17:20:17 -0400 (Mon, 07 Jul 2025) EllapsedTime: 18.2 seconds RetCode: 0 Status: OK PackageFile: Rhtslib_3.5.0.tar.gz PackageFileSize: 4.91 MiB