Package: Rhtslib Version: 3.5.0 Command: rm -rf Rhtslib.buildbin-libdir && mkdir Rhtslib.buildbin-libdir && /Users/biocbuild/BBS/utils/build-universal.sh Rhtslib_3.5.0.tar.gz /Library/Frameworks/R.framework/Resources/bin/R Rhtslib.buildbin-libdir StartedAt: 2025-07-07 22:29:25 -0400 (Mon, 07 Jul 2025) EndedAt: 2025-07-07 22:29:41 -0400 (Mon, 07 Jul 2025) EllapsedTime: 15.2 seconds RetCode: 0 Status: OK PackageFile: Rhtslib_3.5.0.tgz PackageFileSize: 3.214 MiB