Package: Rhisat2 Version: 1.25.0 Command: /Library/Frameworks/R.framework/Resources/bin/R CMD INSTALL Rhisat2 StartedAt: 2025-07-01 15:21:46 -0400 (Tue, 01 Jul 2025) EndedAt: 2025-07-01 15:22:34 -0400 (Tue, 01 Jul 2025) EllapsedTime: 48.1 seconds RetCode: 0 Status: OK