Package: Rhisat2 Version: 1.25.0 Command: /Library/Frameworks/R.framework/Resources/bin/R CMD build --keep-empty-dirs --no-resave-data Rhisat2 StartedAt: 2025-07-01 17:21:17 -0400 (Tue, 01 Jul 2025) EndedAt: 2025-07-01 17:22:15 -0400 (Tue, 01 Jul 2025) EllapsedTime: 57.6 seconds RetCode: 0 Status: OK PackageFile: Rhisat2_1.25.0.tar.gz PackageFileSize: 6.745 MiB