Package: RgnTX Version: 1.11.0 Command: /home/biocbuild/R/R/bin/R CMD check --install=check:RgnTX.install-out.txt --library=/home/biocbuild/R/R/site-library --no-vignettes --timings RgnTX_1.11.0.tar.gz StartedAt: 2025-07-08 10:11:22 -0000 (Tue, 08 Jul 2025) EndedAt: 2025-07-08 10:22:20 -0000 (Tue, 08 Jul 2025) EllapsedTime: 657.4 seconds RetCode: 0 Status: OK CheckDir: RgnTX.Rcheck Warnings: 0