Package: RgnTX Version: 1.11.0 Command: F:\biocbuild\bbs-3.22-bioc\R\bin\R.exe CMD check --no-multiarch --install=check:RgnTX.install-out.txt --library=F:\biocbuild\bbs-3.22-bioc\R\library --no-vignettes --timings RgnTX_1.11.0.tar.gz StartedAt: 2025-07-08 05:43:17 -0400 (Tue, 08 Jul 2025) EndedAt: 2025-07-08 05:53:06 -0400 (Tue, 08 Jul 2025) EllapsedTime: 588.9 seconds RetCode: 0 Status: OK CheckDir: RgnTX.Rcheck Warnings: 0