Package: RgnTX Version: 1.11.0 Command: chmod a+r RgnTX -R && F:\biocbuild\bbs-3.22-bioc\R\bin\R.exe CMD build --keep-empty-dirs --no-resave-data RgnTX StartedAt: 2025-07-07 21:34:36 -0400 (Mon, 07 Jul 2025) EndedAt: 2025-07-07 21:37:10 -0400 (Mon, 07 Jul 2025) EllapsedTime: 153.8 seconds RetCode: 0 Status: OK PackageFile: RgnTX_1.11.0.tar.gz PackageFileSize: 3.697 MiB