Package: RgnTX Version: 1.11.0 Command: rm -rf RgnTX.buildbin-libdir && mkdir RgnTX.buildbin-libdir && F:\biocbuild\bbs-3.22-bioc\R\bin\R.exe CMD INSTALL --build --library=RgnTX.buildbin-libdir RgnTX_1.11.0.tar.gz StartedAt: 2025-07-08 09:44:08 -0400 (Tue, 08 Jul 2025) EndedAt: 2025-07-08 09:45:11 -0400 (Tue, 08 Jul 2025) EllapsedTime: 63.0 seconds RetCode: 0 Status: OK PackageFile: RgnTX_1.11.0.zip PackageFileSize: 2.471 MiB