Package: RgnTX Version: 1.11.0 Command: /home/biocbuild/bbs-3.22-bioc/R/bin/R CMD INSTALL RgnTX StartedAt: 2025-07-01 15:56:57 -0400 (Tue, 01 Jul 2025) EndedAt: 2025-07-01 15:57:38 -0400 (Tue, 01 Jul 2025) EllapsedTime: 40.6 seconds RetCode: 0 Status: OK