Package: RgnTX Version: 1.11.0 Command: /home/biocbuild/bbs-3.22-bioc/R/bin/R CMD build --keep-empty-dirs --no-resave-data --md5 RgnTX StartedAt: 2025-07-01 18:49:46 -0400 (Tue, 01 Jul 2025) EndedAt: 2025-07-01 18:51:52 -0400 (Tue, 01 Jul 2025) EllapsedTime: 126.1 seconds RetCode: 0 Status: OK PackageFile: RgnTX_1.11.0.tar.gz PackageFileSize: 3.97 MiB