Package: RgnTX Version: 1.11.0 Command: /Library/Frameworks/R.framework/Resources/bin/R CMD INSTALL RgnTX StartedAt: 2025-07-07 15:30:07 -0400 (Mon, 07 Jul 2025) EndedAt: 2025-07-07 15:30:24 -0400 (Mon, 07 Jul 2025) EllapsedTime: 16.4 seconds RetCode: 0 Status: OK