Package: RgnTX Version: 1.11.0 Command: /Library/Frameworks/R.framework/Resources/bin/R CMD check --install=check:RgnTX.install-out.txt --library=/Library/Frameworks/R.framework/Resources/library --no-vignettes --timings RgnTX_1.11.0.tar.gz StartedAt: 2025-07-07 20:58:48 -0400 (Mon, 07 Jul 2025) EndedAt: 2025-07-07 21:02:05 -0400 (Mon, 07 Jul 2025) EllapsedTime: 197.7 seconds RetCode: 0 Status: OK CheckDir: RgnTX.Rcheck Warnings: 0