Package: RgnTX Version: 1.11.0 Command: /Library/Frameworks/R.framework/Resources/bin/R CMD build --keep-empty-dirs --no-resave-data RgnTX StartedAt: 2025-07-07 17:19:20 -0400 (Mon, 07 Jul 2025) EndedAt: 2025-07-07 17:20:14 -0400 (Mon, 07 Jul 2025) EllapsedTime: 53.6 seconds RetCode: 0 Status: OK PackageFile: RgnTX_1.11.0.tar.gz PackageFileSize: 3.933 MiB