Package: RgnTX Version: 1.11.0 Command: rm -rf RgnTX.buildbin-libdir && mkdir RgnTX.buildbin-libdir && /Users/biocbuild/BBS/utils/build-universal.sh RgnTX_1.11.0.tar.gz /Library/Frameworks/R.framework/Resources/bin/R RgnTX.buildbin-libdir StartedAt: 2025-07-07 22:29:14 -0400 (Mon, 07 Jul 2025) EndedAt: 2025-07-07 22:29:31 -0400 (Mon, 07 Jul 2025) EllapsedTime: 17.3 seconds RetCode: 0 Status: OK PackageFile: RgnTX_1.11.0.tgz PackageFileSize: 2.706 MiB