Package: Repitools Version: 1.55.0 Command: F:\biocbuild\bbs-3.22-bioc\R\bin\R.exe CMD INSTALL Repitools StartedAt: 2025-07-20 17:12:02 -0400 (Sun, 20 Jul 2025) EndedAt: 2025-07-20 17:12:02 -0400 (Sun, 20 Jul 2025) EllapsedTime: 0.4 seconds RetCode: 1 Status: ERROR