Package: Repitools Version: 1.55.0 Command: chmod a+r Repitools -R && F:\biocbuild\bbs-3.22-bioc\R\bin\R.exe CMD build --keep-empty-dirs --no-resave-data Repitools StartedAt: 2025-07-20 21:33:09 -0400 (Sun, 20 Jul 2025) EndedAt: 2025-07-20 21:33:16 -0400 (Sun, 20 Jul 2025) EllapsedTime: 7.3 seconds RetCode: 1 Status: ERROR PackageFile: None PackageFileSize: NA