############################################################################## ############################################################################## ### ### Running command: ### ### chmod a+r Repitools -R && F:\biocbuild\bbs-3.22-bioc\R\bin\R.exe CMD build --keep-empty-dirs --no-resave-data Repitools ### ############################################################################## ############################################################################## * checking for file 'Repitools/DESCRIPTION' ... OK * preparing 'Repitools': * checking DESCRIPTION meta-information ... OK * cleaning src * installing the package to build vignettes ----------------------------------- ERROR: dependency 'gsmoothr' is not available for package 'Repitools' Perhaps try a variation of: install.packages('gsmoothr') * removing 'F:/biocbuild/bbs-3.22-bioc/tmpdir/RtmpYR0NdM/Rinsta364502b2860/Repitools' ----------------------------------- ERROR: package installation failed